BEGIN:VCALENDAR
METHOD:PUBLISH
VERSION:2.0
CALSCALE:GREGORIAN
PRODID:-//NONSGML WPForms//NONSGML Sugar Calendar Feeds v3.10.0//EN
X-WR-CALNAME:2:40PM - U18 Varsity vs Southeast Surge
X-WR-CALDESC:Canadian International Hockey Academy
X-WR-TIMEZONE:UTC
BEGIN:VTIMEZONE
TZID:UTC
BEGIN:STANDARD
TZOFFSETFROM:+0000
TZOFFSETTO:+0000
DTSTART:20250801T024000
TZNAME:UTC
END:STANDARD
END:VTIMEZONE
BEGIN:VTIMEZONE
TZID:America/Toronto
BEGIN:STANDARD
TZOFFSETFROM:-0400
TZOFFSETTO:-0500
DTSTART:20251102T060000
TZNAME:EST
END:STANDARD
END:VTIMEZONE
BEGIN:VEVENT
SUMMARY:2:40PM - U18 Varsity vs Southeast Surge
DESCRIPTION:
URL;VALUE=URI:https://www.cihacademy.com/events/240pm-u18-varsity-vs-sou
 theast-surge/
UID:urn:uuid:8cd455f9-9db5-4578-9728-f13e6cb35537
STATUS:CONFIRMED
ORGANIZER:
DTSTAMP:20260420T145522Z
DTSTART;TZID=America/Toronto:20260130T144000
DTEND;TZID=America/Toronto:20260130T154000
LOCATION:271 Lansdowne St W\, Peterborough
END:VEVENT
END:VCALENDAR