BEGIN:VCALENDAR
METHOD:PUBLISH
VERSION:2.0
CALSCALE:GREGORIAN
PRODID:-//NONSGML WPForms//NONSGML Sugar Calendar Feeds v3.10.0//EN
X-WR-CALNAME:2:25PM - U16 Varsity vs Orillia Terriers
X-WR-CALDESC:Canadian International Hockey Academy
X-WR-TIMEZONE:UTC
BEGIN:VTIMEZONE
TZID:UTC
BEGIN:STANDARD
TZOFFSETFROM:+0000
TZOFFSETTO:+0000
DTSTART:20250718T022500
TZNAME:UTC
END:STANDARD
END:VTIMEZONE
BEGIN:VTIMEZONE
TZID:America/Toronto
BEGIN:STANDARD
TZOFFSETFROM:-0400
TZOFFSETTO:-0500
DTSTART:20251102T060000
TZNAME:EST
END:STANDARD
END:VTIMEZONE
BEGIN:VEVENT
SUMMARY:2:25PM - U16 Varsity vs Orillia Terriers
DESCRIPTION:
URL;VALUE=URI:https://www.cihacademy.com/events/225pm-u16-varsity-vs-bur
 lington-eagles/
UID:urn:uuid:ca4c9809-7bd4-4002-ac54-432824c33124
STATUS:CONFIRMED
ORGANIZER:
DTSTAMP:20260420T122140Z
DTSTART;TZID=America/Toronto:20260116T142500
DTEND;TZID=America/Toronto:20260116T152500
LOCATION:3070 Neyagawa Blvd
END:VEVENT
END:VCALENDAR