BEGIN:VCALENDAR
METHOD:PUBLISH
VERSION:2.0
CALSCALE:GREGORIAN
PRODID:-//NONSGML WPForms//NONSGML Sugar Calendar Feeds v3.10.0//EN
X-WR-CALNAME:2:20PM - U16 Varsity vs Riverside Rangers
X-WR-CALDESC:Canadian International Hockey Academy
X-WR-TIMEZONE:UTC
BEGIN:VTIMEZONE
TZID:UTC
BEGIN:STANDARD
TZOFFSETFROM:+0000
TZOFFSETTO:+0000
DTSTART:20250523T022000
TZNAME:UTC
END:STANDARD
END:VTIMEZONE
BEGIN:VTIMEZONE
TZID:America/Toronto
BEGIN:STANDARD
TZOFFSETFROM:-0400
TZOFFSETTO:-0500
DTSTART:20251102T060000
TZNAME:EST
END:STANDARD
END:VTIMEZONE
BEGIN:VEVENT
SUMMARY:2:20PM - U16 Varsity vs Riverside Rangers
DESCRIPTION:
URL;VALUE=URI:https://www.cihacademy.com/events/220pm-u16-varsity-vs-riv
 erside-rangers/
UID:urn:uuid:58106ec0-c0fb-4140-97bc-5e4efed52f55
STATUS:CONFIRMED
ORGANIZER:
DTSTAMP:20260420T145457Z
DTSTART;TZID=America/Toronto:20251121T142000
DTEND;TZID=America/Toronto:20251121T152000
LOCATION:610 S Service Rd
END:VEVENT
END:VCALENDAR