BEGIN:VCALENDAR
METHOD:PUBLISH
VERSION:2.0
CALSCALE:GREGORIAN
PRODID:-//NONSGML WPForms//NONSGML Sugar Calendar Feeds v3.10.0//EN
X-WR-CALNAME:2:10PM - U16 Varsity vs West Niagara Flying Aces
X-WR-CALDESC:Canadian International Hockey Academy
X-WR-TIMEZONE:UTC
BEGIN:VTIMEZONE
TZID:UTC
BEGIN:STANDARD
TZOFFSETFROM:+0000
TZOFFSETTO:+0000
DTSTART:20250719T021000
TZNAME:UTC
END:STANDARD
END:VTIMEZONE
BEGIN:VTIMEZONE
TZID:America/Toronto
BEGIN:STANDARD
TZOFFSETFROM:-0400
TZOFFSETTO:-0500
DTSTART:20251102T060000
TZNAME:EST
END:STANDARD
END:VTIMEZONE
BEGIN:VEVENT
SUMMARY:2:10PM - U16 Varsity vs West Niagara Flying Aces
DESCRIPTION:
URL;VALUE=URI:https://www.cihacademy.com/events/210pm-u16-varsity-vs-wes
 t-niagara-flying-aces/
UID:urn:uuid:cdd43800-432e-4636-b39b-ddb717def8dd
STATUS:CONFIRMED
ORGANIZER:
DTSTAMP:20260421T023318Z
DTSTART;TZID=America/Toronto:20260117T141000
DTEND;TZID=America/Toronto:20260117T151000
LOCATION:3070 Neyagawa Blvd
END:VEVENT
END:VCALENDAR