BEGIN:VCALENDAR
METHOD:PUBLISH
VERSION:2.0
CALSCALE:GREGORIAN
PRODID:-//NONSGML WPForms//NONSGML Sugar Calendar Feeds v3.10.0//EN
X-WR-CALNAME:2:30PM - U18 Prep vs Ontario Hockey Academy
X-WR-CALDESC:Canadian International Hockey Academy
X-WR-TIMEZONE:UTC
BEGIN:VTIMEZONE
TZID:UTC
BEGIN:STANDARD
TZOFFSETFROM:+0000
TZOFFSETTO:+0000
DTSTART:20250826T023000
TZNAME:UTC
END:STANDARD
END:VTIMEZONE
BEGIN:VTIMEZONE
TZID:America/Toronto
BEGIN:STANDARD
TZOFFSETFROM:-0400
TZOFFSETTO:-0500
DTSTART:20251102T060000
TZNAME:EST
END:STANDARD
END:VTIMEZONE
BEGIN:VEVENT
SUMMARY:2:30PM - U18 Prep vs Ontario Hockey Academy
DESCRIPTION:
URL;VALUE=URI:https://www.cihacademy.com/events/200pm-u18-prep-vs-ontari
 o-hockey-academy/
UID:urn:uuid:8e8c096b-66d3-4e66-b107-e82ef854a7f3
STATUS:CONFIRMED
ORGANIZER:
DTSTAMP:20260420T150019Z
DTSTART;TZID=America/Toronto:20260224T143000
DTEND;TZID=America/Toronto:20260224T170000
LOCATION:800 Seventh St W
END:VEVENT
END:VCALENDAR