BEGIN:VCALENDAR
METHOD:PUBLISH
VERSION:2.0
CALSCALE:GREGORIAN
PRODID:-//NONSGML WPForms//NONSGML Sugar Calendar Feeds v3.10.0//EN
X-WR-CALNAME:2:00PM - U18 Prep vs Ontario Hockey Academy Mavericks
X-WR-CALDESC:Canadian International Hockey Academy
X-WR-TIMEZONE:UTC
BEGIN:VTIMEZONE
TZID:UTC
BEGIN:STANDARD
TZOFFSETFROM:+0000
TZOFFSETTO:+0000
DTSTART:20250909T020000
TZNAME:UTC
END:STANDARD
END:VTIMEZONE
BEGIN:VTIMEZONE
TZID:America/Toronto
BEGIN:STANDARD
TZOFFSETFROM:-0400
TZOFFSETTO:-0500
DTSTART:20251102T060000
TZNAME:EST
END:STANDARD
BEGIN:DAYLIGHT
TZOFFSETFROM:-0500
TZOFFSETTO:-0400
DTSTART:20260308T070000
TZNAME:EDT
END:DAYLIGHT
END:VTIMEZONE
BEGIN:VEVENT
SUMMARY:2:00PM - U18 Prep vs Ontario Hockey Academy Mavericks
DESCRIPTION:
URL;VALUE=URI:https://www.cihacademy.com/events/200pm-u18-prep-vs-ontari
 o-hockey-academy-mavericks/
UID:urn:uuid:b40302ab-cf07-475d-87bc-576254726eed
STATUS:CONFIRMED
ORGANIZER:
DTSTAMP:20260420T151517Z
DTSTART;TZID=America/Toronto:20260310T140000
DTEND;TZID=America/Toronto:20260310T170000
LOCATION:800 Seventh St W
END:VEVENT
END:VCALENDAR