BEGIN:VCALENDAR
METHOD:PUBLISH
VERSION:2.0
CALSCALE:GREGORIAN
PRODID:-//NONSGML WPForms//NONSGML Sugar Calendar Feeds v3.10.0//EN
X-WR-CALNAME:2:00PM - U16 Varsity vs Castor River Canucks
X-WR-CALDESC:Canadian International Hockey Academy
X-WR-TIMEZONE:UTC
BEGIN:VTIMEZONE
TZID:UTC
BEGIN:STANDARD
TZOFFSETFROM:+0000
TZOFFSETTO:+0000
DTSTART:20250411T020000
TZNAME:UTC
END:STANDARD
END:VTIMEZONE
BEGIN:VTIMEZONE
TZID:America/Toronto
BEGIN:DAYLIGHT
TZOFFSETFROM:-0400
TZOFFSETTO:-0400
DTSTART:20250411T020000
TZNAME:EDT
END:DAYLIGHT
END:VTIMEZONE
BEGIN:VEVENT
SUMMARY:2:00PM - U16 Varsity vs Castor River Canucks
DESCRIPTION:
URL;VALUE=URI:https://www.cihacademy.com/events/200pm-u16-varsity-vs-cas
 tor-river-canucks/
UID:urn:uuid:500f453b-c5a7-4dd4-9252-54f4b36ea97e
STATUS:CONFIRMED
ORGANIZER:
DTSTAMP:20260421T102526Z
DTSTART;TZID=America/Toronto:20251010T140000
DTEND;TZID=America/Toronto:20251010T150000
LOCATION:20 Canadian Lane
END:VEVENT
END:VCALENDAR