BEGIN:VCALENDAR
METHOD:PUBLISH
VERSION:2.0
CALSCALE:GREGORIAN
PRODID:-//NONSGML WPForms//NONSGML Sugar Calendar Feeds v3.10.0//EN
X-WR-CALNAME:1:50PM - U18 Varsity vs Tri-Centre Jr. Attack
X-WR-CALDESC:Canadian International Hockey Academy
X-WR-TIMEZONE:UTC
BEGIN:VTIMEZONE
TZID:UTC
BEGIN:STANDARD
TZOFFSETFROM:+0000
TZOFFSETTO:+0000
DTSTART:20250803T015000
TZNAME:UTC
END:STANDARD
END:VTIMEZONE
BEGIN:VTIMEZONE
TZID:America/Toronto
BEGIN:STANDARD
TZOFFSETFROM:-0400
TZOFFSETTO:-0500
DTSTART:20251102T060000
TZNAME:EST
END:STANDARD
END:VTIMEZONE
BEGIN:VEVENT
SUMMARY:1:50PM - U18 Varsity vs Tri-Centre Jr. Attack
DESCRIPTION:
URL;VALUE=URI:https://www.cihacademy.com/events/150pm-u18-varsity-vs-tri
 -centre-jr-attack/
UID:urn:uuid:1ac7fcf3-53be-42e7-bb92-4bb605833d31
STATUS:CONFIRMED
ORGANIZER:
DTSTAMP:20260419T140133Z
DTSTART;TZID=America/Toronto:20260201T135000
DTEND;TZID=America/Toronto:20260201T145000
LOCATION:911 Monaghan Rd
END:VEVENT
END:VCALENDAR