BEGIN:VCALENDAR
METHOD:PUBLISH
VERSION:2.0
CALSCALE:GREGORIAN
PRODID:-//NONSGML WPForms//NONSGML Sugar Calendar Feeds v3.10.0//EN
X-WR-CALNAME:1:40PM - U16 Varsity vs Glancaster Bombers
X-WR-CALDESC:Canadian International Hockey Academy
X-WR-TIMEZONE:UTC
BEGIN:VTIMEZONE
TZID:UTC
BEGIN:STANDARD
TZOFFSETFROM:+0000
TZOFFSETTO:+0000
DTSTART:20251011T014000
TZNAME:UTC
END:STANDARD
END:VTIMEZONE
BEGIN:VTIMEZONE
TZID:America/Toronto
BEGIN:STANDARD
TZOFFSETFROM:-0400
TZOFFSETTO:-0500
DTSTART:20251102T060000
TZNAME:EST
END:STANDARD
BEGIN:DAYLIGHT
TZOFFSETFROM:-0500
TZOFFSETTO:-0400
DTSTART:20260308T070000
TZNAME:EDT
END:DAYLIGHT
END:VTIMEZONE
BEGIN:VEVENT
SUMMARY:1:40PM - U16 Varsity vs Glancaster Bombers
DESCRIPTION:
URL;VALUE=URI:https://www.cihacademy.com/events/140pm-u16-varsity-vs-gla
 ncaster-bombers/
UID:urn:uuid:906400c8-6206-4659-8163-884e650a73a2
STATUS:CONFIRMED
ORGANIZER:
DTSTAMP:20260420T034352Z
DTSTART;TZID=America/Toronto:20260411T134000
DTEND;TZID=America/Toronto:20260411T144000
LOCATION:7575 Kennedy Rd S.
END:VEVENT
END:VCALENDAR