BEGIN:VCALENDAR
METHOD:PUBLISH
VERSION:2.0
CALSCALE:GREGORIAN
PRODID:-//NONSGML WPForms//NONSGML Sugar Calendar Feeds v3.10.0//EN
X-WR-CALNAME:1:30PM - U18 Prep vs London Jr. Knights
X-WR-CALDESC:Canadian International Hockey Academy
X-WR-TIMEZONE:UTC
BEGIN:VTIMEZONE
TZID:UTC
BEGIN:STANDARD
TZOFFSETFROM:+0000
TZOFFSETTO:+0000
DTSTART:20250719T013000
TZNAME:UTC
END:STANDARD
END:VTIMEZONE
BEGIN:VTIMEZONE
TZID:America/Toronto
BEGIN:STANDARD
TZOFFSETFROM:-0400
TZOFFSETTO:-0500
DTSTART:20251102T060000
TZNAME:EST
END:STANDARD
END:VTIMEZONE
BEGIN:VEVENT
SUMMARY:1:30PM - U18 Prep vs London Jr. Knights
DESCRIPTION:
URL;VALUE=URI:https://www.cihacademy.com/events/130pm-u18-prep-vs-london
 -jr-knights/
UID:urn:uuid:4d81bc95-a591-4cf0-9fe9-836f03ec8044
STATUS:CONFIRMED
ORGANIZER:
DTSTAMP:20260420T145509Z
DTSTART;TZID=America/Toronto:20260117T133000
DTEND;TZID=America/Toronto:20260117T143000
LOCATION:1 Kinsmen Way
END:VEVENT
END:VCALENDAR