BEGIN:VCALENDAR
METHOD:PUBLISH
VERSION:2.0
CALSCALE:GREGORIAN
PRODID:-//NONSGML WPForms//NONSGML Sugar Calendar Feeds v3.10.0//EN
X-WR-CALNAME:12:55PM - U16 Varsity vs Osgoode Richmond Romans
X-WR-CALDESC:Canadian International Hockey Academy
X-WR-TIMEZONE:UTC
BEGIN:VTIMEZONE
TZID:UTC
BEGIN:STANDARD
TZOFFSETFROM:+0000
TZOFFSETTO:+0000
DTSTART:20251010T005500
TZNAME:UTC
END:STANDARD
END:VTIMEZONE
BEGIN:VTIMEZONE
TZID:America/Toronto
BEGIN:STANDARD
TZOFFSETFROM:-0400
TZOFFSETTO:-0500
DTSTART:20251102T060000
TZNAME:EST
END:STANDARD
BEGIN:DAYLIGHT
TZOFFSETFROM:-0500
TZOFFSETTO:-0400
DTSTART:20260308T070000
TZNAME:EDT
END:DAYLIGHT
END:VTIMEZONE
BEGIN:VEVENT
SUMMARY:12:55PM - U16 Varsity vs Osgoode Richmond Romans
DESCRIPTION:
URL;VALUE=URI:https://www.cihacademy.com/events/1255pm-u16-varsity-vs-os
 goode-richmond-romans/
UID:urn:uuid:fdb2c0ac-ba00-4949-9e51-98033c3b617c
STATUS:CONFIRMED
ORGANIZER:
DTSTAMP:20260420T005232Z
DTSTART;TZID=America/Toronto:20260410T125500
DTEND;TZID=America/Toronto:20260410T135500
LOCATION:7575 Kennedy Rd S.
END:VEVENT
END:VCALENDAR