BEGIN:VCALENDAR
METHOD:PUBLISH
VERSION:2.0
CALSCALE:GREGORIAN
PRODID:-//NONSGML WPForms//NONSGML Sugar Calendar Feeds v3.10.0//EN
X-WR-CALNAME:12:50PM - U16 Varsity vs Kanata Blazers
X-WR-CALDESC:Canadian International Hockey Academy
X-WR-TIMEZONE:UTC
BEGIN:VTIMEZONE
TZID:UTC
BEGIN:STANDARD
TZOFFSETFROM:+0000
TZOFFSETTO:+0000
DTSTART:20250328T005000
TZNAME:UTC
END:STANDARD
END:VTIMEZONE
BEGIN:VTIMEZONE
TZID:America/Toronto
BEGIN:DAYLIGHT
TZOFFSETFROM:-0400
TZOFFSETTO:-0400
DTSTART:20250328T005000
TZNAME:EDT
END:DAYLIGHT
END:VTIMEZONE
BEGIN:VEVENT
SUMMARY:12:50PM - U16 Varsity vs Kanata Blazers
DESCRIPTION:
URL;VALUE=URI:https://www.cihacademy.com/events/1250pm-u16-varsity-vs-ka
 nata-blazers/
UID:urn:uuid:60af0751-9b84-48b7-8538-a00deab3f274
STATUS:CONFIRMED
ORGANIZER:
DTSTAMP:20260421T023420Z
DTSTART;TZID=America/Toronto:20250926T125000
DTEND;TZID=America/Toronto:20250926T135000
LOCATION:1565 Maple Grove Rd
END:VEVENT
END:VCALENDAR