BEGIN:VCALENDAR
METHOD:PUBLISH
VERSION:2.0
CALSCALE:GREGORIAN
PRODID:-//NONSGML WPForms//NONSGML Sugar Calendar Feeds v3.10.0//EN
X-WR-CALNAME:12:45PM - U18 Prep vs King Heights Academy
X-WR-CALDESC:Canadian International Hockey Academy
X-WR-TIMEZONE:UTC
BEGIN:VTIMEZONE
TZID:UTC
BEGIN:STANDARD
TZOFFSETFROM:+0000
TZOFFSETTO:+0000
DTSTART:20250912T004500
TZNAME:UTC
END:STANDARD
END:VTIMEZONE
BEGIN:VTIMEZONE
TZID:America/Toronto
BEGIN:STANDARD
TZOFFSETFROM:-0400
TZOFFSETTO:-0500
DTSTART:20251102T060000
TZNAME:EST
END:STANDARD
BEGIN:DAYLIGHT
TZOFFSETFROM:-0500
TZOFFSETTO:-0400
DTSTART:20260308T070000
TZNAME:EDT
END:DAYLIGHT
END:VTIMEZONE
BEGIN:VEVENT
SUMMARY:12:45PM - U18 Prep vs King Heights Academy
DESCRIPTION:
URL;VALUE=URI:https://www.cihacademy.com/events/1245pm-u18-prep-vs-king-
 heights-academy/
UID:urn:uuid:cb4afc55-4bb6-463c-825a-76389154a3ca
STATUS:CONFIRMED
ORGANIZER:
DTSTAMP:20260420T143445Z
DTSTART;TZID=America/Toronto:20260313T124500
DTEND;TZID=America/Toronto:20260313T144500
LOCATION:20 Canadian Lane
END:VEVENT
END:VCALENDAR