BEGIN:VCALENDAR
METHOD:PUBLISH
VERSION:2.0
CALSCALE:GREGORIAN
PRODID:-//NONSGML WPForms//NONSGML Sugar Calendar Feeds v3.10.0//EN
X-WR-CALNAME:12:30PM - U18 Prep vs Greater Kingston Jr. Gaels
X-WR-CALDESC:Canadian International Hockey Academy
X-WR-TIMEZONE:UTC
BEGIN:VTIMEZONE
TZID:UTC
BEGIN:STANDARD
TZOFFSETFROM:+0000
TZOFFSETTO:+0000
DTSTART:20250425T003000
TZNAME:UTC
END:STANDARD
END:VTIMEZONE
BEGIN:VTIMEZONE
TZID:America/Toronto
BEGIN:DAYLIGHT
TZOFFSETFROM:-0400
TZOFFSETTO:-0400
DTSTART:20250425T003000
TZNAME:EDT
END:DAYLIGHT
END:VTIMEZONE
BEGIN:VEVENT
SUMMARY:12:30PM - U18 Prep vs Greater Kingston Jr. Gaels
DESCRIPTION:
URL;VALUE=URI:https://www.cihacademy.com/events/1230pm-u18-prep-vs-great
 er-kingston-jr-gaels/
UID:urn:uuid:31671099-5e49-428d-a97e-302f2231a247
STATUS:CONFIRMED
ORGANIZER:
DTSTAMP:20260420T152717Z
DTSTART;TZID=America/Toronto:20251024T123000
DTEND;TZID=America/Toronto:20251024T133000
LOCATION:1350 Gardiners Rd
END:VEVENT
END:VCALENDAR