BEGIN:VCALENDAR
METHOD:PUBLISH
VERSION:2.0
CALSCALE:GREGORIAN
PRODID:-//NONSGML WPForms//NONSGML Sugar Calendar Feeds v3.10.0//EN
X-WR-CALNAME:12:30PM - U16 Varsity vs Peterborough Petes
X-WR-CALDESC:Canadian International Hockey Academy
X-WR-TIMEZONE:UTC
BEGIN:VTIMEZONE
TZID:UTC
BEGIN:STANDARD
TZOFFSETFROM:+0000
TZOFFSETTO:+0000
DTSTART:20250801T003000
TZNAME:UTC
END:STANDARD
END:VTIMEZONE
BEGIN:VTIMEZONE
TZID:America/Toronto
BEGIN:STANDARD
TZOFFSETFROM:-0400
TZOFFSETTO:-0500
DTSTART:20251102T060000
TZNAME:EST
END:STANDARD
END:VTIMEZONE
BEGIN:VEVENT
SUMMARY:12:30PM - U16 Varsity vs Peterborough Petes
DESCRIPTION:
URL;VALUE=URI:https://www.cihacademy.com/events/1230pm-u16-varsity-vs-pe
 terborough-petes/
UID:urn:uuid:20921b42-ba26-4a2d-b5da-ea01e8fa7446
STATUS:CONFIRMED
ORGANIZER:
DTSTAMP:20260420T051328Z
DTSTART;TZID=America/Toronto:20260130T123000
DTEND;TZID=America/Toronto:20260130T133000
LOCATION:911 Monaghan Rd
END:VEVENT
END:VCALENDAR