BEGIN:VCALENDAR
METHOD:PUBLISH
VERSION:2.0
CALSCALE:GREGORIAN
PRODID:-//NONSGML WPForms//NONSGML Sugar Calendar Feeds v3.10.0//EN
X-WR-CALNAME:12:20PM - U16 Varsity vs Halton Hills Thunder
X-WR-CALDESC:Canadian International Hockey Academy
X-WR-TIMEZONE:UTC
BEGIN:VTIMEZONE
TZID:UTC
BEGIN:STANDARD
TZOFFSETFROM:+0000
TZOFFSETTO:+0000
DTSTART:20250531T002000
TZNAME:UTC
END:STANDARD
END:VTIMEZONE
BEGIN:VTIMEZONE
TZID:America/Toronto
BEGIN:STANDARD
TZOFFSETFROM:-0400
TZOFFSETTO:-0500
DTSTART:20251102T060000
TZNAME:EST
END:STANDARD
END:VTIMEZONE
BEGIN:VEVENT
SUMMARY:12:20PM - U16 Varsity vs Halton Hills Thunder
DESCRIPTION:
URL;VALUE=URI:https://www.cihacademy.com/events/1220pm-u16-varsity-vs-ha
 lton-hills-thunder/
UID:urn:uuid:fbd1e02e-4df4-4f36-aebe-926e1b03faff
STATUS:CONFIRMED
ORGANIZER:
DTSTAMP:20260420T053856Z
DTSTART;TZID=America/Toronto:20251129T122000
DTEND;TZID=America/Toronto:20251129T132000
LOCATION:1565 Maple Grove Rd
END:VEVENT
END:VCALENDAR