BEGIN:VCALENDAR
METHOD:PUBLISH
VERSION:2.0
CALSCALE:GREGORIAN
PRODID:-//NONSGML WPForms//NONSGML Sugar Calendar Feeds v3.10.0//EN
X-WR-CALNAME:12:00PM - U18 Prep vs Ulysse Academie
X-WR-CALDESC:Canadian International Hockey Academy
X-WR-TIMEZONE:UTC
BEGIN:VTIMEZONE
TZID:UTC
BEGIN:STANDARD
TZOFFSETFROM:+0000
TZOFFSETTO:+0000
DTSTART:20250503T000000
TZNAME:UTC
END:STANDARD
END:VTIMEZONE
BEGIN:VTIMEZONE
TZID:America/Toronto
BEGIN:DAYLIGHT
TZOFFSETFROM:-0400
TZOFFSETTO:-0400
DTSTART:20250503T000000
TZNAME:EDT
END:DAYLIGHT
END:VTIMEZONE
BEGIN:VEVENT
SUMMARY:12:00PM - U18 Prep vs Ulysse Academie
DESCRIPTION:
URL;VALUE=URI:https://www.cihacademy.com/events/1200pm-u18-prep-vs-ulyss
 e-academie-2/
UID:urn:uuid:d7167e4b-40e5-4e91-b040-a4856c0330a5
STATUS:CONFIRMED
ORGANIZER:
DTSTAMP:20260420T143018Z
DTSTART;TZID=America/Toronto:20251101T120000
DTEND;TZID=America/Toronto:20251101T150000
LOCATION:620 Rue J. Oswald Forest
END:VEVENT
END:VCALENDAR