BEGIN:VCALENDAR
METHOD:PUBLISH
VERSION:2.0
CALSCALE:GREGORIAN
PRODID:-//NONSGML WPForms//NONSGML Sugar Calendar Feeds v3.10.0//EN
X-WR-CALNAME:2:30PM - U18 Prep vs Fort Erie International Academy
X-WR-CALDESC:Canadian International Hockey Academy
X-WR-TIMEZONE:UTC
BEGIN:VTIMEZONE
TZID:UTC
BEGIN:STANDARD
TZOFFSETFROM:+0000
TZOFFSETTO:+0000
DTSTART:20250801T023000
TZNAME:UTC
END:STANDARD
END:VTIMEZONE
BEGIN:VTIMEZONE
TZID:America/Toronto
BEGIN:STANDARD
TZOFFSETFROM:-0400
TZOFFSETTO:-0500
DTSTART:20251102T060000
TZNAME:EST
END:STANDARD
END:VTIMEZONE
BEGIN:VEVENT
SUMMARY:2:30PM - U18 Prep vs Fort Erie International Academy
DESCRIPTION:
URL;VALUE=URI:https://www.cihacademy.com/events/1200pm-u18-prep-vs-kings
 -edgehill-school/
UID:urn:uuid:c9e0c086-02d0-4a5a-a5b5-1bc683cd9776
STATUS:CONFIRMED
ORGANIZER:
DTSTAMP:20260420T100435Z
DTSTART;TZID=America/Toronto:20260130T143000
DTEND;TZID=America/Toronto:20260130T163000
LOCATION:20 Canadian Lane
END:VEVENT
END:VCALENDAR