BEGIN:VCALENDAR
METHOD:PUBLISH
VERSION:2.0
CALSCALE:GREGORIAN
PRODID:-//NONSGML WPForms//NONSGML Sugar Calendar Feeds v3.10.0//EN
X-WR-CALNAME:11:30AM - U18 Prep vs Brantford 99ers
X-WR-CALDESC:Canadian International Hockey Academy
X-WR-TIMEZONE:UTC
BEGIN:VTIMEZONE
TZID:UTC
BEGIN:STANDARD
TZOFFSETFROM:+0000
TZOFFSETTO:+0000
DTSTART:20250612T233000
TZNAME:UTC
END:STANDARD
END:VTIMEZONE
BEGIN:VTIMEZONE
TZID:America/Toronto
BEGIN:STANDARD
TZOFFSETFROM:-0400
TZOFFSETTO:-0500
DTSTART:20251102T060000
TZNAME:EST
END:STANDARD
END:VTIMEZONE
BEGIN:VEVENT
SUMMARY:11:30AM - U18 Prep vs Brantford 99ers
DESCRIPTION:
URL;VALUE=URI:https://www.cihacademy.com/events/1130am-u18-prep-vs-brant
 ford-99ers/
UID:urn:uuid:4c8b5002-f94a-4a2b-9d19-28d1a267ff07
STATUS:CONFIRMED
ORGANIZER:
DTSTAMP:20260420T145929Z
DTSTART;TZID=America/Toronto:20251212T113000
DTEND;TZID=America/Toronto:20251212T123000
LOCATION:101 Father David Bauer Dr
END:VEVENT
END:VCALENDAR