BEGIN:VCALENDAR
METHOD:PUBLISH
VERSION:2.0
CALSCALE:GREGORIAN
PRODID:-//NONSGML WPForms//NONSGML Sugar Calendar Feeds v3.10.0//EN
X-WR-CALNAME:9:00AM-9:50AM - U18 Scrimmage (All on Pad 1)
X-WR-CALDESC:Canadian International Hockey Academy
X-WR-TIMEZONE:UTC
BEGIN:VTIMEZONE
TZID:UTC
BEGIN:STANDARD
TZOFFSETFROM:+0000
TZOFFSETTO:+0000
DTSTART:20250307T210000
TZNAME:UTC
END:STANDARD
END:VTIMEZONE
BEGIN:VTIMEZONE
TZID:America/Toronto
BEGIN:DAYLIGHT
TZOFFSETFROM:-0500
TZOFFSETTO:-0400
DTSTART:20250309T070000
TZNAME:EDT
END:DAYLIGHT
END:VTIMEZONE
BEGIN:VEVENT
SUMMARY:9:00AM-9:50AM - U18 Scrimmage (All on Pad 1)
DESCRIPTION:
URL;VALUE=URI:https://www.cihacademy.com/events/1125am-1225pm-u18-scrimm
 age-all-on-pad-1-3/
UID:urn:uuid:f1208245-02d0-49bf-9ab7-d31021884466
STATUS:CONFIRMED
ORGANIZER:
DTSTAMP:20260420T151510Z
DTSTART;TZID=America/Toronto:20250906T090000
DTEND;TZID=America/Toronto:20250906T095000
END:VEVENT
END:VCALENDAR