BEGIN:VCALENDAR
METHOD:PUBLISH
VERSION:2.0
CALSCALE:GREGORIAN
PRODID:-//NONSGML WPForms//NONSGML Sugar Calendar Feeds v3.10.0//EN
X-WR-CALNAME:11:25AM-12:25PM - U18 Practice (Pad 1)
X-WR-CALDESC:Canadian International Hockey Academy
X-WR-TIMEZONE:UTC
BEGIN:VTIMEZONE
TZID:UTC
BEGIN:STANDARD
TZOFFSETFROM:+0000
TZOFFSETTO:+0000
DTSTART:20250305T232500
TZNAME:UTC
END:STANDARD
END:VTIMEZONE
BEGIN:VTIMEZONE
TZID:America/Toronto
BEGIN:DAYLIGHT
TZOFFSETFROM:-0500
TZOFFSETTO:-0400
DTSTART:20250309T070000
TZNAME:EDT
END:DAYLIGHT
END:VTIMEZONE
BEGIN:VEVENT
SUMMARY:11:25AM-12:25PM - U18 Practice (Pad 1)
DESCRIPTION:
URL;VALUE=URI:https://www.cihacademy.com/events/1125am-1225pm-u18-practi
 ce-pad-1/
UID:urn:uuid:77ad6679-99a1-43d2-903a-4ee9c3fec4f9
STATUS:CONFIRMED
ORGANIZER:
DTSTAMP:20260420T145546Z
DTSTART;TZID=America/Toronto:20250904T112500
DTEND;TZID=America/Toronto:20250904T122500
END:VEVENT
END:VCALENDAR