BEGIN:VCALENDAR
METHOD:PUBLISH
VERSION:2.0
CALSCALE:GREGORIAN
PRODID:-//NONSGML WPForms//NONSGML Sugar Calendar Feeds v3.10.0//EN
X-WR-CALNAME:11:25AM-12:15PM - U18 Pre-Game Skate (Pad 2)
X-WR-CALDESC:Canadian International Hockey Academy
X-WR-TIMEZONE:UTC
BEGIN:VTIMEZONE
TZID:UTC
BEGIN:STANDARD
TZOFFSETFROM:+0000
TZOFFSETTO:+0000
DTSTART:20250305T232500
TZNAME:UTC
END:STANDARD
END:VTIMEZONE
BEGIN:VTIMEZONE
TZID:America/Toronto
BEGIN:DAYLIGHT
TZOFFSETFROM:-0500
TZOFFSETTO:-0400
DTSTART:20250309T070000
TZNAME:EDT
END:DAYLIGHT
END:VTIMEZONE
BEGIN:VEVENT
SUMMARY:11:25AM-12:15PM - U18 Pre-Game Skate (Pad 2)
DESCRIPTION:
URL;VALUE=URI:https://www.cihacademy.com/events/1125am-1215pm-u18-pre-ga
 me-skate-pad-2/
UID:urn:uuid:ffb44b3c-683e-4418-a224-8997856823b5
STATUS:CONFIRMED
ORGANIZER:
DTSTAMP:20260420T150554Z
DTSTART;TZID=America/Toronto:20250904T112500
DTEND;TZID=America/Toronto:20250904T121500
END:VEVENT
END:VCALENDAR