BEGIN:VCALENDAR
METHOD:PUBLISH
VERSION:2.0
CALSCALE:GREGORIAN
PRODID:-//NONSGML WPForms//NONSGML Sugar Calendar Feeds v3.10.0//EN
X-WR-CALNAME:11:15AM - U16 Varsity vs Ottawa Sting
X-WR-CALDESC:Canadian International Hockey Academy
X-WR-TIMEZONE:UTC
BEGIN:VTIMEZONE
TZID:UTC
BEGIN:STANDARD
TZOFFSETFROM:+0000
TZOFFSETTO:+0000
DTSTART:20250424T231500
TZNAME:UTC
END:STANDARD
END:VTIMEZONE
BEGIN:VTIMEZONE
TZID:America/Toronto
BEGIN:DAYLIGHT
TZOFFSETFROM:-0400
TZOFFSETTO:-0400
DTSTART:20250424T231500
TZNAME:EDT
END:DAYLIGHT
END:VTIMEZONE
BEGIN:VEVENT
SUMMARY:11:15AM - U16 Varsity vs Ottawa Sting
DESCRIPTION:
URL;VALUE=URI:https://www.cihacademy.com/events/1115am-u16-varsity-vs-ot
 tawa-sting/
UID:urn:uuid:b93d255b-a14a-4702-acc1-59dff865e1f5
STATUS:CONFIRMED
ORGANIZER:
DTSTAMP:20260423T084255Z
DTSTART;TZID=America/Toronto:20251024T111500
DTEND;TZID=America/Toronto:20251024T121500
LOCATION:1565 Maple Grove Rd
END:VEVENT
END:VCALENDAR