BEGIN:VCALENDAR
METHOD:PUBLISH
VERSION:2.0
CALSCALE:GREGORIAN
PRODID:-//NONSGML WPForms//NONSGML Sugar Calendar Feeds v3.10.0//EN
X-WR-CALNAME:11:00AM- U18 Prep vs Ontario Hockey Academy Mavericks
X-WR-CALDESC:Canadian International Hockey Academy
X-WR-TIMEZONE:UTC
BEGIN:VTIMEZONE
TZID:UTC
BEGIN:STANDARD
TZOFFSETFROM:+0000
TZOFFSETTO:+0000
DTSTART:20250519T230000
TZNAME:UTC
END:STANDARD
END:VTIMEZONE
BEGIN:VTIMEZONE
TZID:America/Toronto
BEGIN:STANDARD
TZOFFSETFROM:-0400
TZOFFSETTO:-0500
DTSTART:20251102T060000
TZNAME:EST
END:STANDARD
END:VTIMEZONE
BEGIN:VEVENT
SUMMARY:11:00AM- U18 Prep vs Ontario Hockey Academy Mavericks
DESCRIPTION:
URL;VALUE=URI:https://www.cihacademy.com/events/1100am-u18-prep-vs-ontar
 io-hockey-academy/
UID:urn:uuid:55687022-1e4c-48ae-9ebd-b472ad5281bb
STATUS:CONFIRMED
ORGANIZER:
DTSTAMP:20260420T033810Z
DTSTART;TZID=America/Toronto:20251118T110000
DTEND;TZID=America/Toronto:20251118T140000
LOCATION:20 Canadian Lane
END:VEVENT
END:VCALENDAR