BEGIN:VCALENDAR
METHOD:PUBLISH
VERSION:2.0
CALSCALE:GREGORIAN
PRODID:-//NONSGML WPForms//NONSGML Sugar Calendar Feeds v3.10.0//EN
X-WR-CALNAME:10:30AM - U18 Prep vs Okanagan Hockey Ontario
X-WR-CALDESC:Canadian International Hockey Academy
X-WR-TIMEZONE:UTC
BEGIN:VTIMEZONE
TZID:UTC
BEGIN:STANDARD
TZOFFSETFROM:+0000
TZOFFSETTO:+0000
DTSTART:20250405T223000
TZNAME:UTC
END:STANDARD
END:VTIMEZONE
BEGIN:VTIMEZONE
TZID:America/Toronto
BEGIN:DAYLIGHT
TZOFFSETFROM:-0400
TZOFFSETTO:-0400
DTSTART:20250405T223000
TZNAME:EDT
END:DAYLIGHT
END:VTIMEZONE
BEGIN:VEVENT
SUMMARY:10:30AM - U18 Prep vs Okanagan Hockey Ontario
DESCRIPTION:
URL;VALUE=URI:https://www.cihacademy.com/events/1030am-u18-prep-vs-okana
 gan-hockey-ontario/
UID:urn:uuid:a74dcc19-3f5b-460a-8f30-66a484b4814f
STATUS:CONFIRMED
ORGANIZER:
DTSTAMP:20260418T104624Z
DTSTART;TZID=America/Toronto:20251005T103000
DTEND;TZID=America/Toronto:20251005T133000
LOCATION:800 Seventh St W
END:VEVENT
END:VCALENDAR