BEGIN:VCALENDAR
METHOD:PUBLISH
VERSION:2.0
CALSCALE:GREGORIAN
PRODID:-//NONSGML WPForms//NONSGML Sugar Calendar Feeds v3.10.0//EN
X-WR-CALNAME:3:30PM - U18 Prep vs Ontario Hockey Academy Mavericks
X-WR-CALDESC:Canadian International Hockey Academy
X-WR-TIMEZONE:UTC
BEGIN:VTIMEZONE
TZID:UTC
BEGIN:STANDARD
TZOFFSETFROM:+0000
TZOFFSETTO:+0000
DTSTART:20250802T033000
TZNAME:UTC
END:STANDARD
END:VTIMEZONE
BEGIN:VTIMEZONE
TZID:America/Toronto
BEGIN:STANDARD
TZOFFSETFROM:-0400
TZOFFSETTO:-0500
DTSTART:20251102T060000
TZNAME:EST
END:STANDARD
END:VTIMEZONE
BEGIN:VEVENT
SUMMARY:3:30PM - U18 Prep vs Ontario Hockey Academy Mavericks
DESCRIPTION:
URL;VALUE=URI:https://www.cihacademy.com/events/1030am-u18-prep-vs-okana
 gan-hockey-ontario-2/
UID:urn:uuid:046a5083-5965-4756-a829-442800a4cf4d
STATUS:CONFIRMED
ORGANIZER:
DTSTAMP:20260420T060646Z
DTSTART;TZID=America/Toronto:20260131T153000
DTEND;TZID=America/Toronto:20260131T173000
LOCATION:20 Canadian Lane
END:VEVENT
END:VCALENDAR