BEGIN:VCALENDAR
METHOD:PUBLISH
VERSION:2.0
CALSCALE:GREGORIAN
PRODID:-//NONSGML WPForms//NONSGML Sugar Calendar Feeds v3.10.0//EN
X-WR-CALNAME:10:30AM - U18 Prep vs Guelph Gryphons (Semi-Finals)
X-WR-CALDESC:Canadian International Hockey Academy
X-WR-TIMEZONE:UTC
BEGIN:VTIMEZONE
TZID:UTC
BEGIN:STANDARD
TZOFFSETFROM:+0000
TZOFFSETTO:+0000
DTSTART:20250510T223000
TZNAME:UTC
END:STANDARD
END:VTIMEZONE
BEGIN:VTIMEZONE
TZID:America/Toronto
BEGIN:STANDARD
TZOFFSETFROM:-0400
TZOFFSETTO:-0500
DTSTART:20251102T060000
TZNAME:EST
END:STANDARD
END:VTIMEZONE
BEGIN:VEVENT
SUMMARY:10:30AM - U18 Prep vs Guelph Gryphons (Semi-Finals)
DESCRIPTION:
URL;VALUE=URI:https://www.cihacademy.com/events/1030am-u18-prep-vs-guelp
 h-gryphons-semi-finals/
UID:urn:uuid:fe8d0313-4d9f-4023-abd4-a87218a02887
STATUS:CONFIRMED
ORGANIZER:
DTSTAMP:20260423T101548Z
DTSTART;TZID=America/Toronto:20251109T103000
DTEND;TZID=America/Toronto:20251109T113000
LOCATION:135 Lennox Lewis Way
END:VEVENT
END:VCALENDAR