BEGIN:VCALENDAR
METHOD:PUBLISH
VERSION:2.0
CALSCALE:GREGORIAN
PRODID:-//NONSGML WPForms//NONSGML Sugar Calendar Feeds v3.10.0//EN
X-WR-CALNAME:10:15AM - U18 Prep vs North Central Predators
X-WR-CALDESC:Canadian International Hockey Academy
X-WR-TIMEZONE:UTC
BEGIN:VTIMEZONE
TZID:UTC
BEGIN:STANDARD
TZOFFSETFROM:+0000
TZOFFSETTO:+0000
DTSTART:20250425T221500
TZNAME:UTC
END:STANDARD
END:VTIMEZONE
BEGIN:VTIMEZONE
TZID:America/Toronto
BEGIN:DAYLIGHT
TZOFFSETFROM:-0400
TZOFFSETTO:-0400
DTSTART:20250425T221500
TZNAME:EDT
END:DAYLIGHT
END:VTIMEZONE
BEGIN:VEVENT
SUMMARY:10:15AM - U18 Prep vs North Central Predators
DESCRIPTION:
URL;VALUE=URI:https://www.cihacademy.com/events/1015am-u18-prep-vs-north
 -central-predators/
UID:urn:uuid:176de77d-ebd4-4be0-9ecb-ecff519ca73e
STATUS:CONFIRMED
ORGANIZER:
DTSTAMP:20260420T130224Z
DTSTART;TZID=America/Toronto:20251025T101500
DTEND;TZID=America/Toronto:20251025T111500
LOCATION:1350 Gardiners Rd
END:VEVENT
END:VCALENDAR