BEGIN:VCALENDAR
METHOD:PUBLISH
VERSION:2.0
CALSCALE:GREGORIAN
PRODID:-//NONSGML WPForms//NONSGML Sugar Calendar Feeds v3.10.0//EN
X-WR-CALNAME:10:15AM - U18 Prep vs North Bay Trappers
X-WR-CALDESC:Canadian International Hockey Academy
X-WR-TIMEZONE:UTC
BEGIN:VTIMEZONE
TZID:UTC
BEGIN:STANDARD
TZOFFSETFROM:+0000
TZOFFSETTO:+0000
DTSTART:20250509T221500
TZNAME:UTC
END:STANDARD
END:VTIMEZONE
BEGIN:VTIMEZONE
TZID:America/Toronto
BEGIN:STANDARD
TZOFFSETFROM:-0400
TZOFFSETTO:-0500
DTSTART:20251102T060000
TZNAME:EST
END:STANDARD
END:VTIMEZONE
BEGIN:VEVENT
SUMMARY:10:15AM - U18 Prep vs North Bay Trappers
DESCRIPTION:
URL;VALUE=URI:https://www.cihacademy.com/events/1015am-u18-prep-vs-north
 -bay-trappers/
UID:urn:uuid:3e3cb097-64cc-42bb-a031-cc56e7fed880
STATUS:CONFIRMED
ORGANIZER:
DTSTAMP:20260421T021726Z
DTSTART;TZID=America/Toronto:20251108T101500
DTEND;TZID=America/Toronto:20251108T111500
LOCATION:35 Sportsworld Crossing Rd
END:VEVENT
END:VCALENDAR