BEGIN:VCALENDAR
METHOD:PUBLISH
VERSION:2.0
CALSCALE:GREGORIAN
PRODID:-//NONSGML WPForms//NONSGML Sugar Calendar Feeds v3.10.0//EN
X-WR-CALNAME:10:15AM - U18 Prep vs Ajax-Pickering Raiders
X-WR-CALDESC:Canadian International Hockey Academy
X-WR-TIMEZONE:UTC
BEGIN:VTIMEZONE
TZID:UTC
BEGIN:STANDARD
TZOFFSETFROM:+0000
TZOFFSETTO:+0000
DTSTART:20250717T221500
TZNAME:UTC
END:STANDARD
END:VTIMEZONE
BEGIN:VTIMEZONE
TZID:America/Toronto
BEGIN:STANDARD
TZOFFSETFROM:-0400
TZOFFSETTO:-0500
DTSTART:20251102T060000
TZNAME:EST
END:STANDARD
END:VTIMEZONE
BEGIN:VEVENT
SUMMARY:10:15AM - U18 Prep vs Ajax-Pickering Raiders
DESCRIPTION:
URL;VALUE=URI:https://www.cihacademy.com/events/1015am-u18-prep-vs-ajax-
 pickering-raiders/
UID:urn:uuid:560477f7-b1b0-42d7-8602-871199e92ff1
STATUS:CONFIRMED
ORGANIZER:
DTSTAMP:20260421T102658Z
DTSTART;TZID=America/Toronto:20260116T101500
DTEND;TZID=America/Toronto:20260116T111500
LOCATION:986 Peterborough County Rd 10
END:VEVENT
END:VCALENDAR