BEGIN:VCALENDAR
METHOD:PUBLISH
VERSION:2.0
CALSCALE:GREGORIAN
PRODID:-//NONSGML WPForms//NONSGML Sugar Calendar Feeds v3.10.0//EN
X-WR-CALNAME:1:00PM - U18 Varsity vs Notre Dame Hounds
X-WR-CALDESC:Canadian International Hockey Academy
X-WR-TIMEZONE:UTC
BEGIN:VTIMEZONE
TZID:UTC
BEGIN:STANDARD
TZOFFSETFROM:+0000
TZOFFSETTO:+0000
DTSTART:20250905T010000
TZNAME:UTC
END:STANDARD
END:VTIMEZONE
BEGIN:VTIMEZONE
TZID:America/Toronto
BEGIN:STANDARD
TZOFFSETFROM:-0400
TZOFFSETTO:-0500
DTSTART:20251102T060000
TZNAME:EST
END:STANDARD
END:VTIMEZONE
BEGIN:VEVENT
SUMMARY:1:00PM - U18 Varsity vs Notre Dame Hounds
DESCRIPTION:
URL;VALUE=URI:https://www.cihacademy.com/events/100pm-u18-varsity-vs-not
 re-dame-hounds/
UID:urn:uuid:32cb19e4-3a0a-41d3-a7a7-06aa5549bbe8
STATUS:CONFIRMED
ORGANIZER:
DTSTAMP:20260420T073204Z
DTSTART;TZID=America/Toronto:20260306T130000
DTEND;TZID=America/Toronto:20260306T150000
LOCATION:20 Canadian Lane
END:VEVENT
END:VCALENDAR