BEGIN:VCALENDAR
METHOD:PUBLISH
VERSION:2.0
CALSCALE:GREGORIAN
PRODID:-//NONSGML WPForms//NONSGML Sugar Calendar Feeds v3.10.0//EN
X-WR-CALNAME:11:00AM - U18 Prep vs Mount Academy
X-WR-CALDESC:Canadian International Hockey Academy
X-WR-TIMEZONE:UTC
BEGIN:VTIMEZONE
TZID:UTC
BEGIN:STANDARD
TZOFFSETFROM:+0000
TZOFFSETTO:+0000
DTSTART:20250514T230000
TZNAME:UTC
END:STANDARD
END:VTIMEZONE
BEGIN:VTIMEZONE
TZID:America/Toronto
BEGIN:STANDARD
TZOFFSETFROM:-0400
TZOFFSETTO:-0500
DTSTART:20251102T060000
TZNAME:EST
END:STANDARD
END:VTIMEZONE
BEGIN:VEVENT
SUMMARY:11:00AM - U18 Prep vs Mount Academy
DESCRIPTION:
URL;VALUE=URI:https://www.cihacademy.com/events/100pm-u18-prep-vs-mount-
 academy/
UID:urn:uuid:38e0065d-144e-4028-b71e-3f4fed54f463
STATUS:CONFIRMED
ORGANIZER:
DTSTAMP:20260418T131252Z
DTSTART;TZID=America/Toronto:20251113T110000
DTEND;TZID=America/Toronto:20251113T140000
LOCATION:20 Canadian Lane
END:VEVENT
END:VCALENDAR